BEGIN:VCALENDAR
VERSION:2.0
PRODID:-//Tukios.com/
BEGIN:VEVENT
UID:a2eb0a66-475b-48a0-b165-38b340565a95@www.goffmortuary.com
DTSTAMP:20260420T083744Z
DTSTART:20260424T150000Z
DTEND:20260424T163000Z
SUMMARY:Viewing
DESCRIPTION:
URL:https://www.goffmortuary.com/obituaries/allen-jenson
LOCATION:RCA Building 1224 West 16580 South  Bluffdale UT 84065
GEO:40.4510239;-111.9288266
END:VEVENT
END:VCALENDAR