BEGIN:VCALENDAR
VERSION:2.0
PRODID:-//Tukios.com/
BEGIN:VEVENT
UID:3de6b7c5-235d-4d15-90e5-a6f094d2a276@www.goffmortuary.com
DTSTAMP:20260419T214013Z
DTSTART:20260423T170000Z
DTEND:20260423T180000Z
SUMMARY:Funeral Service
DESCRIPTION:
URL:https://www.goffmortuary.com/obituaries/judy-chantry
LOCATION:Manti 5th Ward building 300 South Main Street  Manti UT 84642
GEO:39.2610756;-111.6370393
END:VEVENT
END:VCALENDAR