BEGIN:VCALENDAR
VERSION:2.0
PRODID:-//Tukios.com/
BEGIN:VEVENT
UID:34ccc21d-963e-45eb-9648-2b1c05b04038@www.goffmortuary.com
DTSTAMP:20260419T214135Z
DTSTART:20260423T000000Z
DTEND:20260423T020000Z
SUMMARY:Viewing
DESCRIPTION:
URL:https://www.goffmortuary.com/obituaries/judy-chantry
LOCATION:Manti 5th Ward building 300 South Main Street  Manti UT 84642
GEO:39.2610756;-111.6370393
END:VEVENT
END:VCALENDAR