BEGIN:VCALENDAR
VERSION:2.0
PRODID:-//Tukios.com/
BEGIN:VEVENT
UID:8f2cf45e-2a95-4df0-be4f-9508f6c5cf29@www.goffmortuary.com
DTSTAMP:20260419T214114Z
DTSTART:20260423T160000Z
DTEND:20260423T164500Z
SUMMARY:Viewing
DESCRIPTION:
URL:https://www.goffmortuary.com/obituaries/judy-chantry
LOCATION:Manti 5th Ward building 300 South Main Street  Manti UT 84642
GEO:39.2610756;-111.6370393
END:VEVENT
END:VCALENDAR