BEGIN:VCALENDAR
VERSION:2.0
PRODID:-//Tukios.com/
BEGIN:VEVENT
UID:f1b5c24d-f12e-482c-8088-f9c007f4e147@www.goffmortuary.com
DTSTAMP:20260424T220151Z
DTSTART:20260504T150000Z
DTEND:20260504T163000Z
SUMMARY:Viewing
DESCRIPTION:
URL:https://www.goffmortuary.com/obituaries/mary-hadlock
LOCATION:Bennion Ward Building 5980 South 1300 West  Taylorsville UT 
	84123
GEO:40.6427795;-111.9317781
END:VEVENT
END:VCALENDAR