BEGIN:VCALENDAR
VERSION:2.0
PRODID:-//Tukios.com/
BEGIN:VEVENT
UID:640be69b-083a-41ef-91dd-20a212a90ba6@www.goffmortuary.com
DTSTAMP:20260424T220607Z
DTSTART:20260504T170000Z
DTEND:20260504T180000Z
SUMMARY:Funeral Service
DESCRIPTION:
URL:https://www.goffmortuary.com/obituaries/mary-hadlock
LOCATION:Bennion Ward Building 5980 South 1300 West  Taylorsville UT 
	84123
GEO:40.6427795;-111.9317781
END:VEVENT
END:VCALENDAR