BEGIN:VCALENDAR
VERSION:2.0
PRODID:-//Tukios.com/
BEGIN:VEVENT
UID:d4ed679e-1c63-4c8b-b1f7-a40a275c486d@www.goffmortuary.com
DTSTAMP:20260421T234434Z
DTSTART:20260425T000000Z
DTEND:20260425T020000Z
SUMMARY:Viewing
DESCRIPTION:
URL:https://www.goffmortuary.com/obituaries/sharon-newbold
LOCATION:Goff Mortuary 8090 S. State Street  Midvale UT 84047
GEO:40.6045226;-111.8912223
END:VEVENT
END:VCALENDAR