BEGIN:VCALENDAR
VERSION:2.0
PRODID:-//Tukios.com/
BEGIN:VEVENT
UID:8ee03d6d-e7c6-4924-be12-39c2165932fd@www.goffmortuary.com
DTSTAMP:20260421T234535Z
DTSTART:20260425T173000Z
DTEND:20260425T183000Z
SUMMARY:Funeral Service
DESCRIPTION:
URL:https://www.goffmortuary.com/obituaries/sharon-newbold
LOCATION:Meadowlark Ward 2180 Meadowlark Way  Sandy UT 84093
GEO:40.5872484;-111.8286719
END:VEVENT
END:VCALENDAR