BEGIN:VCALENDAR
VERSION:2.0
PRODID:-//Tukios.com/
BEGIN:VEVENT
UID:2ea34bdd-0efa-449c-8095-133f477fb988@www.goffmortuary.com
DTSTAMP:20260421T234434Z
DTSTART:20260425T153000Z
DTEND:20260425T170000Z
SUMMARY:Viewing
DESCRIPTION:
URL:https://www.goffmortuary.com/obituaries/sharon-newbold
LOCATION:Meadowlark Ward 2180 East Meadowlark Way (9020 South)  Sandy UT 
	84093
GEO:40.5872484;-111.8286719
END:VEVENT
END:VCALENDAR